BEGIN:VCALENDAR
VERSION:2.0
PRODID:-//PUNTO OLISTICO "Sentieri di Armonia"//NONSGML kigkonsult.se iCalc
 reator 2.30.10//
CALSCALE:GREGORIAN
METHOD:PUBLISH
UID:b116bbb7-ee03-4406-830a-0e7bb34d75ad
X-WR-CALNAME:iCagenda
X-WR-CALDESC:Event Management Extension for Joomla!
X-WR-RELCALID:3E26604A-50F4-4449-8B3E-E4F4932D05B5
X-WR-TIMEZONE:UTC
BEGIN:VTIMEZONE
TZID:UTC
END:VTIMEZONE
BEGIN:VEVENT
UID:d9495a75-acb5-4d8d-8563-ca904818dde5
DTSTAMP:20260419T152930Z
CATEGORIES:Vacanze NaturYoga® in montagna
CLASS:PUBLIC
DESCRIPTION;ALTREP="CID:<FFFF__=0ABBE548DFE235B58f9e8a93d@coffeebean.com>":
 NaturYoga® a Luna PienaNatura\, Yoga\, Tamburo Sciamanico\; la mente tace\
 , parla solo il cuore.A Luna Piena ritrova il tuo equilibrio interiore sul
 la “Linea del Drago”\n10 - 16 Agosto 2025OULX (TO) | ALTA VALLE DI SUSA | 
 PIEMONTE\n{youtube}Ol12RIqH9YI{/youtube}\nNaturYoga®&nbsp\;Yoga in ascolto
  della Natura cos’è ?\nUn metodo validato da 18 anni di esperienza per aiu
 tarti a&nbsp\;riconnetterti con l’energia della Natura e del tuo cuore e s
 coprire che&nbsp\;Sole\, Luna\, Pianeti\, Terra\,&nbsp\;Alberi\, Elementi\
 , possono essere alleati speciali per il tuo benessere anche quando&nbsp\;
 sarai a casa\, dopo la tua vacanza.\nVuoi&nbsp\;&nbsp\;scoprire come ritro
 vare il tuo equilibrio\, come mantenerti nel tuo centro\,&nbsp\;cioè come 
 avere un benessere duraturo?\nÈ...\ntutto già qui\, è solo una questione d
 i saper guardare.Questa è la migliore vacanza&nbsp\;per tornare a casa div
 ersi.NaturYoga®&nbsp\;in montagna vuol dire: sentire l’energia della natur
 a\, della luna\, del bosco e mettersi in sintonia.&nbsp\;Una connessione c
 he non perderai più e ti accompagnerà ogni giorno per rendere magico il tu
 o quotidiano.\nApprofitta di questa fase di Luna&nbsp\;Piena e vivi un’esp
 erienza fuori dal comune.\n\nNaturYoga®\n\nYoga e meditazioni&nbsp\;per co
 nnetterti con l’energia dell’universo...\nll&nbsp\;suono del tamburo&nbsp\
 ;per guidarti a scoprire i veri ritmi della natura\, per viaggiare tra i m
 ondi\; il visibile e l’invisibile e ricavarne risposte e idee…\nCamminate 
 in natura&nbsp\;per il bene di corpo e mente…\nImmersione nei boschi\, for
 est bathing per ripulire tutti i pensieri…\nMeditazioni&nbsp\;in connessio
 ne con la musica segreta degli alberi...\nIl cibo:&nbsp\;una via verso il 
 benessere della mente...\nTrattamenti&nbsp\;di riflessologia plantare per 
 disintossicare …&nbsp\;\nSerate olistiche&nbsp\;per scoprire nuove strade…
 \n\n&nbsp\;Il&nbsp\;metodo NaturYoga®&nbsp\;ti accompagnerà&nbsp\;in quest
 o tuo viaggio che sarà unico e giusto per te.\nUn benessere a 360° di corp
 o\, mente e spirito.\nQuando?\nDal 10 al 16 Agosto 2025\n6 notti e&nbsp\;7
  meravigliose giornate&nbsp\;insieme&nbsp\;tra le montagne generose della&
 nbsp\;Val di Susa&nbsp\;con il&nbsp\;metodo NaturYoga®&nbsp\;per ri-connet
 terti con l’energia della natura&nbsp\;riconoscendo la funzione del Sole e
  dalla Luna nella tua vita\, in ascolto della tua anima naturale.Un soggio
 rno per ricaricarti\, ritrovando la tua energia\,&nbsp\;&nbsp\;la tua forz
 a interiore\, fiducia e benessere grazie alle frequenze alte della'Linea d
 el Drago”&nbsp\;che ti aiuteranno a sollevare il tuo stato vitale e sentir
 ti subito in linea con l’energia dell’Universo.\n\nDove?\n\nTra le&nbsp\;A
 lpi Cozie\, cornice del&nbsp\;Piemonte\, il piccolo paesino dal nome stran
 o:&nbsp\;Oulx&nbsp\;Ti attende per liberare i tuoi orizzonti.\nLa 'Linea d
 el Drago' come era definita un tempo\, è una linea di forza della Terra e 
 scoprirai la sua energia\; sarà&nbsp\;&nbsp\;una vera spinta per la tua vi
 ta.\n&nbsp\;Questa esperienza ti permette di…\nConoscere...I cicli della L
 una\, del sole\, dei pianeti che hanno un grande impatto sulla nostra esis
 tenza terrena.Mettere a fuoco i vari momenti\, situazioni della tua vita&n
 bsp\; per viverli al meglio anche quando sarai a casa.Imparare a danzare c
 on la vita&nbsp\;&nbsp\;e portare la magia del cielo nel tuo quotidiano .&
 nbsp\;\nLa Luna Piena è una grande occasione per:&nbsp\;\nVedere lo specch
 io della vita e ripulire il mare delle proprie emozioni.Ma anche per&nbsp\
 ;trovare sempre nuovi e più stabili equilibri.\nIn questi giorni potrai:\n
 \nEntrare in contatto con le energie di luoghi molto potenti\, facendo\, i
 n poche parole\, bagni di frequenze.\nScoprire la foresta\, il bosco\, l’a
 lbero come&nbsp\;&nbsp\;grandi aiutanti nel tuo cammino.\nScegliere ogni g
 iorno lo Yoga come stile di vita\, come via “dalla terra al cielo\, attrav
 erso il corpo”.\nEntrare nel ritmo del tamburo\, strumento ancestrale\, pe
 r viaggiare tra i mondi\, dal visibile all’invisibile.\nSperimentare i ben
 efici immediati di cibi salutari\, Km 0\, cucinati con amore e fantasia.\n
 Disintossicare corpo e mente\, ri-trovare il tuo equilibrio apprendendo te
 cniche che potranno accompagnarti ogni giorno.&nbsp\;\n\n\nChe benefici av
 rai da questa vacanza?\nLa&nbsp\;luna&nbsp\;piena&nbsp\;è un momento molto
  particolare!Imparerai i benefici che ti derivano dal fermarti\, dall’asco
 ltarti&nbsp\;non farti travolgere ma ad aspettare per trovare le soluzioni
  giuste\, quelle che non riuscivi a vedere.Riscoprirai la fiducia in te st
 ess@ e nella tua voce interiore.\nLe frequenze di questa Terra&nbsp\;ti do
 neranno:\nPiù stabilità\, forza di carattere e pazienza.\nUna miglior form
 a fisica\; ti sentirai più determinat@ e soprattutto:Avrai in mano le chia
 vi per un benessere duraturo.\n&nbsp\;Sarà un percorso evolutivo a fianco 
 della Maestra Natura:'Corpo e mente forti ma leggeri e spirito libero'&nbs
 p\;è&nbsp\;il feedback di molti di voi alla fine dei soggiorni!&nbsp\;&nbs
 p\; &nbsp\; &nbsp\;\nPerchè partecipare a questo ritiro NaturYoga®?\n\n\nS
 e sei in un momento di stasi\, in cui non sai bene dove dirigere le tue en
 ergie e ti pare che le cose non si sblocchino nella tua vita.\nSe ti senti
  scarico e hai bisogno di ritrovarti.\nSe hai perso la fiducia in te stess
 @ e nelle tue scelte.\nSe hai perso per un attimo il senso di quello che a
 ccade nella tua vita e del perchè...\n\nQuesta esperienza a contatto con u
 na Maestra potentissima quale la Natura\, nelle frequenze alte della 'Line
 a del Drago'&nbsp\;ti faranno sentire come quando hai freddo e fai un bel 
 bagno caldo!\nStare con i ritmi della natura\, del sole e della Luna\, del
  tamburo sciamanico&nbsp\;&nbsp\;e del tuo cuore che ti portano oltre l’or
 dinario ti aiuterà a ritrovare la tua forza interiore\, la tua luce\, per 
 essere in grado di stare bene sempre.\nAiutarti a portare il benessere nel
  tuo quotidiano è la nostra 'Mission!'.\nQuesto è lo scopo del metodo&nbsp
 \;NaturYoga®Yoga&nbsp\;in&nbsp\;ascolto&nbsp\;della Natura…\n\nUn metodo c
 he unisce le mie esperienze di:Quasi mezzo secolo&nbsp\;di Yoga e lavoro s
 ul corpo\,oltre 40 anni di ricerca personale nel mondo olistico\,una vita 
 intera di ascolto\, studio e frequentazione della natura ed un lungo ed ap
 profondito percorso nel mondo dello&nbsp\;Core Shamanism&nbsp\;(Sciamanism
 o transculturale) suggerito da&nbsp\;Michael Harner\, fondatore della&nbsp
 \;Foundation for Shamanic studies.\nÈ&nbsp\;un metodo semplice...per compr
 endersi e…Comprendere.Per&nbsp\;rendere il viaggio attraverso la vita&nbsp
 \;una danza.Un modo di&nbsp\;vivere:a contatto con la&nbsp\;tua anima Natu
 rale&nbsp\;anche quando sei in città\,a contatto con la tua parte selvaggi
 a ed antica che sanno trovare sempre l’equilibrio.\nRiuscirai&nbsp\;a sent
 irti bene non solo in vacanza&nbsp\;ma tutto l’anno!'Essere' yoga\, non 'f
 are' yoga è la vera via.\nVuoi sapere come si svolgono le giornate?\n\n&nb
 sp\;Il programma giorno per giorno è una gestione troppo rigida della vaca
 nza che non rispecchia la flessibilità della Vita.\nQuesto soggiorno è un 
 percorso evolutivo&nbsp\;che parte dal piccolo per arrivare al grande\,&nb
 sp\;passa dal grande per trovare il piccolo.\nCi saranno comunque sempre:
 \nEscursioni...\n\nOgni giorno insieme capiremo come&nbsp\;il cammino dell
 a vita&nbsp\;si può leggere mediante una camminata fisica\, in luoghi semp
 re diversi\, dalle caratteristiche energetiche particolari.\nLa&nbsp\;Natu
 ra\, con i suoi elementi è la nostra guida e la nostra maestra.La visitere
 mo con amore\, in ascolto.\nCercheremo di conoscerla la mattina presto\, q
 uando il buio lascia posto alla luce\, la sera tardi per imparare la lezio
 ne dell’Ovest\, esploreremo il silenzio e l’attesa della notte\, speriment
 eremo il calore del mezzogiorno.\nYoga...Si pratica ogni giorno...\n\n\nPr
 atiche Yoga&nbsp\;giornaliere&nbsp\;di circa 1 ora mattina e/o sera\,&nbsp
 \;in sala yoga e/o in giardino.\nPratiche yoga in natura&nbsp\;per connett
 erci agli elementi.\nMeditazioni&nbsp\;speciali per richiamare l’energia d
 i ciò che ci circonda.\nUtilizzeremo il tamburo sciamanico\, i sonagli\, l
 a voce segreta ed il respiro delle piante\, la danza\, il canto\, i colori
 \, i racconti.\nNella natura\, al cospetto delle cime\, nei boschi\, vicin
 o ai ruscelli ascolteremo gli elementi acqua\, aria\, terra\, fuoco e li s
 copriremo dentro di noi.Sentirne i ritmi sarà un bellissimo viaggio.\n\n\n
 Alimentazione...\n\nIntroduzione generale all’alimentazione naturale per l
 a salute.I prodotti utilizzati sono biologici\, biodinamici\, a Km 0 ed un
 a particolare attenzione viene rivolta alle combinazioni alimentari\, alla
  preparazione e cottura del cibo per fare in modo che sia una vera fonte d
 i energia.\nPer farti un’esempio: olio sardo prodotto da un amico\, verdur
 e raccolte insieme fresche dall’orto biodinamico a 1660 metri di quota!\nL
 a cucina è vegetariana!!!\nColazioni salutari e cene cucinate con amore e 
 fantasia saranno occasioni di conversazioni illuminate per onorare il dono
  del cibo.\nUna serata sarà in rifugio (il costo della cena sarà a parte) 
 e la camminata di rientro sarà sotto la luce delle stelle.\nTrattamenti Ol
 istici...\n\nLa&nbsp\;riflessologia plantare&nbsp\;aiuta a disintossicare 
 gli organi ed è compresa nel percorso.\nChi desidera può prenotare altri t
 rattamenti extra per intensificare i benefici.\nUn&nbsp\;massaggio&nbsp\;c
 ompleto del corpo&nbsp\;&nbsp\;sarà disponibile per coloro che desiderano 
 una coccola speciale.*&nbsp\;Il costo è a parte. Meglio prenotare in antic
 ipo.\nUno o più trattamenti&nbsp\;Shiatsu&nbsp\;sono a disposizione per un
  riequilibrio\, un reset totale dell’energia fisica e sottile.*&nbsp\;Il c
 osto è a parte. Meglio prenotare in anticipo.\nPerle Olistiche...\nPer com
 pletare questo gioiello unico che sarà la tua vacanza\, dopo cena il perco
 rso si arricchirà dell’intervento di specialisti in varie discipline olist
 iche.La Numerologia\, l’Astrologia\, la Naturopatia\, la Kinesiologia\, la
  Tarologia\, la Nutrizione\, l’Arte Terapia\, lo Shiatsu\, l’Autotrattamen
 to di riflessologia plantare\, il Mantra Singing\, il Sound Healing\, sono
  solo alcuni esempi delle attività che verranno presentate a seconda delle
  dinamiche del gruppo.\n{youtube}8wYbSovgsFE{/youtube}\n🗓 PROGRAMMAARRIVO:
  Domenica 10 Agosto 2025 (dalle 14.00 in avanti).\n\n\nIndicazioni per con
 oscere il paesino\, entrare in sintonia con l’ambiente\, abituarsi all’ari
 a di montagna\, all’altitudine è importante.\n\n\nUn trattamento individua
 lizzato di&nbsp\;riflessologia plantare&nbsp\;ti aiuterà a liberare corpo 
 e mente.\n\n\nOre 18.30 circa:&nbsp\;Pratica yoga&nbsp\;in natura o in sal
 etta (da decidere sul momento).\n\n\nOre 20.00 circa:&nbsp\;È il momento c
 onviviale e sociale della&nbsp\;&nbsp\;Cena che sarà naturale\, biologica\
 , nel rispetto della salute\, per disintossicare corpo e mente\, Km 0\, cu
 cinata con amore.Grande occasione di condivisioni e conversazioni illumina
 te.\n\n\nDopo cena:La riflessologia plantare\,&nbsp\;come autotrattamento 
 è un metodo semplice alla portata del quotidiano per ritrovare il tuo cent
 ro e curare piccoli malesseri.\n\n\nDa Lunedì 11 Agosto 2025...\n\n\n&nbsp
 \;Le giornate scorrono piacevoli&nbsp\;&nbsp\;tra Yoga\,&nbsp\;escursioni&
 nbsp\;&nbsp\;nei boschi in montagna\, in questi&nbsp\;luoghi magici&nbsp\;
 sulla 'Linea del Drago'\, terra di&nbsp\;Celti&nbsp\;perchè possiamo ascol
 tare il loro respiro\, le loro vibrazioni ed accordare le nostre frequenze
 .\nI&nbsp\;pranzi&nbsp\;saranno sempre al sacco\, a meno che il gruppo des
 ideri raggiungere qualche rifugio per pranzare in rifugio.\n\n\n\nRientro&
 nbsp\;nel pomeriggio.\nPossibilità di ricevere i trattamenti di:Riflessolo
 gia plantare&nbsp\;incluso nel prezzo o prenotarne altri.Massaggio Olistic
 o&nbsp\;(da pagare a parte con prezzo convenzionato per i soci).Trattament
 o Shiatsu&nbsp\;(da pagare a parte con prezzo convenzionato per i soci).\n
 Ore 19.00 circa:&nbsp\;Yoga di fine giornata.\nOre 20.00 circa:&nbsp\;Cena
  sociale per la salute&nbsp\;cucinata con amore e fantasia.\nDopo cena:&nb
 sp\;Esperienza di condivisioni olistiche.Ogni giorno sarà uno step verso u
 na maggior consapevolezza\, uno stimolo per la curiosità ed una grande occ
 asione.\nUna sera sarà in rifugio o vicino al fuoco\, con rientro nel bosc
 o illuminato dalla luna e le stelle e con le pile frontali.\n\nQuesta vaca
 nza è un’esperienza fuori dal comune\,&nbsp\;forte e piena di significato.
 \n\nLa conclusione è&nbsp\;Sabato 16 Agosto 2025&nbsp\;in mattinata.Il pae
 se sarà in festa\, potrete godere dei festeggiamenti\, di trattamenti olis
 tici extra\, mettervi d’accordo con la guida per una giornata extra in mon
 tagna ma le camere dovranno essere liberate entro le&nbsp\;ore 11.00.\n\nQ
 uanto è il contributo per questa Vacanza?\nIl contributo per questo percor
 so NaturYoga®&nbsp\;è&nbsp\;&nbsp\;di&nbsp\;€ 690&nbsp\;comprensivi di:\n
 \n13&nbsp\;pratiche&nbsp\;Yoga e meditazioni&nbsp\;per connetterti con l’e
 nergia dell’universo...\nll viaggio dello sciamano:&nbsp\;suono del tambur
 o&nbsp\;per trovare forza e guarigione. risposte e idee…\nCamminate in nat
 ura&nbsp\;per il bene di corpo e mente…\nImmersione nei boschi\, forest ba
 thing per ripulire tutti i pensieri…\nMeditazioni&nbsp\;in connessione con
  la musica segreta degli alberi…\n5&nbsp\;Cene\; il cibo è&nbsp\;una via v
 erso il benessere del corpo e della mente…\n1&nbsp\;Trattamento individual
 e di riflessologia plantare&nbsp\;e&nbsp\;1&nbsp\;di gruppo&nbsp\;\nSerate
  olistiche&nbsp\;per scoprire nuove strade.\n\nSistemazione: Il B&amp\;B '
 PER TE'www.bedandbreakfastperte.it&nbsp\;\n\nIl&nbsp\;B&amp\;B 'Per Te'&nb
 sp\;è casa mia ed è a disposizione per i soci che vengono da lontano.Nel&n
 bsp\;borgo storico del paesino di&nbsp\;Oulx (TO)\,&nbsp\;vicino alla sede
  della nostra associazione.Il luogo è ideale per i&nbsp\;soggiorni Yoga &a
 mp\; Natura&nbsp\;perchè è in centro\, vicino ai piccoli negozi per la spe
 sa e allo stesso tempo comodo per bellissime escursioni nella natura.\nL'a
 tmosfera è soft\, accogliente e famigliare\;&nbsp\;il legno\, le fibre nat
 urali\, l’acqua informata\, i dispositivi contro le geopatie e per isolare
  gli effetti degli strumenti elettrici ed elettromagnetici creano un ambie
 nte pulito e protetto.Lo stile è montano\, il legno è l'elemento predomina
 nte.\nÈ&nbsp\;un’accoglienza famigliare.\n\nLa casa si sviluppa su&nbsp\;2
  piani.\nAl&nbsp\;piano mansardato&nbsp\;ampio ed originale\, molto accogl
 iente\, in stile rustico montano ci sono:\n\nUna camera con 3 letti singol
 i.\nUna camera matrimoniale.entrambe molto accoglienti\, in legno e mobili
  antichi e rustici.\nIl Bagno è grande\, comodo\,&nbsp\;con doccia e vasca
  grande.&nbsp\;\n\nAl&nbsp\;piano secondo\, in stile montano e rustico ci 
 sono:\n\n\nUna camera doppia ampia\, con balcone\, grandi travi e molto le
 gno\nUna camera singola.\nIl bagno è grande con doccia e vasca.\n\nPer que
 sto tipo di sistemazione&nbsp\;che è famigliare.&nbsp\;&nbsp\;\nIl&nbsp\;p
 rezzo&nbsp\;è di&nbsp\;€&nbsp\;300&nbsp\;(pernottamento e colazione) in ca
 mera condivisa (3 persone).\n&nbsp\;€&nbsp\;360&nbsp\;in camera doppia.\n&
 nbsp\;€&nbsp\;420&nbsp\;n camera singola.\nPer maggiori informazioni visit
 a il sito del&nbsp\;B&amp\;B 'Per Te'\nwww.bedandbreakfastperte.it&nbsp\;
 \nPer&nbsp\;chi volesse maggior indipendenza...L’Appartamento 'Monginevro'
 .\n\nA pochi metri da casa composto da:\n\n1 camera matrimoniale\n1 camera
  singola&nbsp\;\nbagno con doccia\nterrazzo e giardinetto\,&nbsp\;appena r
 istrutturato&nbsp\;&nbsp\;in stile montano.\n\n*&nbsp\;Il prezzo di questa
  sistemazione è da pagare a parte.&nbsp\;&nbsp\;\nCome posso fare per part
 ecipare?\nIl corso è riservato ai soci in regola con tesseramento 2025.Se 
 per caso non sei ancora socio\, ma condividi il nostro amore per lo sport 
 e l’attività nella natura\, lo yoga ed il benessere psicofisico contattaci
  via&nbsp\;mail&nbsp\;o&nbsp\;telefono/WhatsApp&nbsp\;3356394103Saremo con
 tenti di spiegarti come fare !&nbsp\;\n* Il numero massimo di partecipanti
  è limitato a 10 persone\nCONTATTACI (Compilando il Form)Mob/WhatsApp:&nbs
 p\;+ 39. 335. 6394103\nChi Vi accompagna in questa esperienza?\nAvvicinarc
 i alla vita con amore ogni giorno\, con gli occhi di un bambino che si stu
 pisce ogni istante: questo il nostro motto.E dunque pratichiamo yoga con a
 more\, cuciniamo con amore\, ci dedichiamo a voi con amore.Poggiamo i nost
 ri piedi sulla terra con amore e rispetto e se camminerete con noi sentire
 te la terra rispondervi con altrettanto amore e rispetto: la serenità che 
 ne nascerà sarà la più grande ricchezza.\n{loadmoduleid 197}\n{loadmodulei
 d 200}\n{loadmoduleid 198}\n{loadmoduleid 199}
DTSTART:20250810T140000Z
DTEND:20250816T130000Z
GEO:+45.032284;+6.83319
LOCATION:A.S.D. sentieri di Armonia A.P.S
ORGANIZER;CN=:info@sentieridiarmonia.com
SEQUENCE:1
SUMMARY:Vacanze Yoga in montagna | 10-16 Agosto 2025 | Natura\, Yoga\, Tamb
 uro Sciamanico\;  la mente tace\, parla solo il cuore.
TRANSP:OPAQUE
URL:https://sentieridiarmonia.org/index.php/it/calendario-eventi-sentieri-d
 i-armonia/16-vacanze-yoga-in-montagna-10-16-agosto-2025-natura-yoga-tambur
 o-sciamanico-la-mente-tace-parla-solo-il-cuore
END:VEVENT
END:VCALENDAR
